{"currentVersion":10.21,"serviceDescription":"","mapName":"Вспомогательные","description":"","copyrightText":"","supportsDynamicLayers":false,"layers":[{"id":0,"name":"Граница отображаемой территории","parentLayerId":-1,"defaultVisibility":true,"subLayerIds":null,"minScale":0,"maxScale":0},{"id":1,"name":"РРБ_маска_прозрачность 40%","parentLayerId":-1,"defaultVisibility":true,"subLayerIds":null,"minScale":0,"maxScale":0}],"tables":[],"spatialReference":{"wkid":4326,"latestWkid":4326},"singleFusedMapCache":true,"tileInfo":{"rows":512,"cols":512,"dpi":96,"format":"Mixed","compressionQuality":80,"origin":{"x":-180,"y":90},"spatialReference":{"wkid":4326,"latestWkid":4326},"lods":[{"level":0,"resolution":0.010986328329934226,"scale":4617149.97766929},{"level":1,"resolution":0.005493164164967124,"scale":2308574.98883465},{"level":2,"resolution":0.0027465820824835504,"scale":1154287.49441732},{"level":3,"resolution":0.0013732910412417797,"scale":577143.747208662},{"level":4,"resolution":6.866455206208899E-4,"scale":288571.873604331},{"level":5,"resolution":3.433227603104438E-4,"scale":144285.936802165},{"level":6,"resolution":1.716613801552224E-4,"scale":72142.9684010827},{"level":7,"resolution":8.583069007761132E-5,"scale":36071.4842005414},{"level":8,"resolution":4.291534503880566E-5,"scale":18035.7421002707}]},"initialExtent":{"xmin":21.73252738971812,"ymin":49.36383145282024,"xmax":30.267472609960304,"ymax":49.97975533469339,"spatialReference":{"cs":"gcs","wkid":4326}},"fullExtent":{"xmin":21.00000000012716,"ymin":45.00000000000409,"xmax":31.000001907013313,"ymax":51.00000190766019,"spatialReference":{"cs":"gcs","wkid":4326}},"minScale":4617149.97766929,"maxScale":18035.7421002707,"units":"esriDecimalDegrees","supportedImageFormatTypes":"PNG32,PNG24,PNG,JPG,DIB,TIFF,EMF,PS,PDF,GIF,SVG,SVGZ,BMP","documentInfo":{"Title":"","Author":"","Comments":"","Subject":"","Category":"","AntialiasingMode":"None","TextAntialiasingMode":"Force","Keywords":""},"capabilities":"Map,Query,Data","supportedQueryFormats":"JSON, AMF","exportTilesAllowed":false,"maxRecordCount":1000,"maxImageHeight":2048,"maxImageWidth":2048,"supportedExtensions":"KmlServer"}